15.00000000000000
0.00000000000000
0.00000000000000
-15.00000000000000
735958.13699999999000
2122979.02699999980000
